BEGIN:VCALENDAR
VERSION:2.0
PRODID:-//wp-events-plugin.com//7.2.2.1//EN
TZID:Europe/Paris
X-WR-TIMEZONE:Europe/Paris
BEGIN:VEVENT
UID:1@septieme-dommage.fr
DTSTART;TZID=Europe/Paris;VALUE=DATE:20220521
DTEND;TZID=Europe/Paris;VALUE=DATE:20220523
DTSTAMP:20220517T190414Z
URL:https://septieme-dommage.fr/events/heart-tournament/
SUMMARY:Heart Tournament
DESCRIPTION:Le Heart Tournament est le premier tournoi de fin de saison de 
 l'association Septième Dommage. Il conclue la saison 2021-2022.\n\nÉvèn
 ement à portée nationale d'une durée de deux jours\, il comportera un t
 ournoi au format Standard ainsi que des Sides Events\, le tout offrant à 
 chaque participant des lots uniques à l'association !
CATEGORIES:Tournoi
LOCATION:Salle Devosges\, 5 Rue Devosge\, Dijon\, 21000\, France
X-APPLE-STRUCTURED-LOCATION;VALUE=URI;X-ADDRESS=5 Rue Devosge\, Dijon\, 210
 00\, France;X-APPLE-RADIUS=100;X-TITLE=Salle Devosges:geo:0,0
END:VEVENT
BEGIN:VTIMEZONE
TZID:Europe/Paris
X-LIC-LOCATION:Europe/Paris
BEGIN:DAYLIGHT
DTSTART:20220327T030000
TZOFFSETFROM:+0100
TZOFFSETTO:+0200
TZNAME:CEST
END:DAYLIGHT
END:VTIMEZONE
END:VCALENDAR