BEGIN:VCALENDAR
VERSION:2.0
PRODID:-//wp-events-plugin.com//7.2.2.1//EN
TZID:Europe/Paris
X-WR-TIMEZONE:Europe/Paris
BEGIN:VEVENT
UID:18@septieme-dommage.fr
DTSTART;TZID=Europe/Paris:20221126T090000
DTEND;TZID=Europe/Paris:20221127T180000
DTSTAMP:20221026T084529Z
URL:https://septieme-dommage.fr/events/kamo-play/
SUMMARY:Kamo Play
DESCRIPTION:L'Association Septième Dommage sera présente le 26 et 27 Nove
 mbre à la convention Kamo Play à Dijon !\n\nAu programme du samedi : Sta
 nd découverte\, initiation et Deckbuild en compagnie de nos gentils bén
 évoles.\nAu programme du dimanche : Tournoi Cube ! Avec une PàF à 3€ 
 symbolique\, des lots fournis par l'association et (peut-être) des parten
 aires\, un évènement pour les confirmés comme pour les débutants !\nPr
 é-Inscription par MP auprès de Neecow\n\nToutes les infos pour la Kamo P
 lay sur leur site : Accueil - Kamo Play (kamo-play.com)
CATEGORIES:Tournoi,Convention
END:VEVENT
BEGIN:VTIMEZONE
TZID:Europe/Paris
X-LIC-LOCATION:Europe/Paris
BEGIN:STANDARD
DTSTART:20221030T020000
TZOFFSETFROM:+0200
TZOFFSETTO:+0100
TZNAME:CET
END:STANDARD
END:VTIMEZONE
END:VCALENDAR