BEGIN:VCALENDAR
VERSION:2.0
PRODID:-//wp-events-plugin.com//7.2.2.1//EN
TZID:Europe/Paris
X-WR-TIMEZONE:Europe/Paris
BEGIN:VEVENT
UID:53@septieme-dommage.fr
DTSTART;TZID=Europe/Paris:20240306T200000
DTEND;TZID=Europe/Paris:20240306T230000
DTSTAMP:20240225T104152Z
URL:https://septieme-dommage.fr/events/octgn-1-night-highlander/
SUMMARY:OCTGN 1 Night - Highlander
DESCRIPTION:**Format :** Highlander\, Bo1 en Round Swiss\n\nLe format Highl
 ander impose de jouer avec un Deck de 100 cartes qui ne contient aucun dou
 blon. Les autres règles habituelles du format Standard s'appliquent.\n\nL
 a taille des pools et du top sera déterminée en fonction du nombre d'ins
 crit.\n\n**PàF :** 1€ par Paypal à septieme.dommage@gmail.com. N'oubli
 ez pas de préciser votre pseudo et le nom du tournoi svp.\n**Prizing :** 
 Points de ligue pour tous selon classement\, et bounties.
CATEGORIES:Tournoi
END:VEVENT
BEGIN:VTIMEZONE
TZID:Europe/Paris
X-LIC-LOCATION:Europe/Paris
BEGIN:STANDARD
DTSTART:20231029T020000
TZOFFSETFROM:+0200
TZOFFSETTO:+0100
TZNAME:CET
END:STANDARD
END:VTIMEZONE
END:VCALENDAR