BEGIN:VCALENDAR
VERSION:2.0
PRODID:-//wp-events-plugin.com//7.2.2.1//EN
TZID:Europe/Paris
X-WR-TIMEZONE:Europe/Paris
BEGIN:VEVENT
UID:24@septieme-dommage.fr
DTSTART;TZID=Europe/Paris:20230201T200000
DTEND;TZID=Europe/Paris:20230201T230000
DTSTAMP:20230104T202158Z
URL:https://septieme-dommage.fr/events/webcam-1-night/
SUMMARY:Webcam 1 Night
DESCRIPTION:Vous pouvez vous inscrire au Tournoi Webcam 1 Night du mercredi
  1er février !\n\nCe tournoi\, limité à 16 places\, se fera en format S
 tandard Opus XVIII.\nPour vous inscrire\, envoyez 4€ par Paypal à septi
 eme.dommage@gmail.com en n'oubliant pas de mentionner votre pseudo.\n\nRé
 compenses en bons d'achat CardMarket selon le nombre de participants\, min
 imum 2€ par personne garantis.
CATEGORIES:Tournoi
END:VEVENT
BEGIN:VTIMEZONE
TZID:Europe/Paris
X-LIC-LOCATION:Europe/Paris
BEGIN:STANDARD
DTSTART:20221030T020000
TZOFFSETFROM:+0200
TZOFFSETTO:+0100
TZNAME:CET
END:STANDARD
END:VTIMEZONE
END:VCALENDAR